BEGIN:VCALENDAR
VERSION:2.0
PRODID:-// - ECPv6.5.2//NONSGML v1.0//EN
CALSCALE:GREGORIAN
METHOD:PUBLISH
X-ORIGINAL-URL:https://prmrocks.org
X-WR-CALDESC:Events for 
REFRESH-INTERVAL;VALUE=DURATION:PT1H
X-Robots-Tag:noindex
X-PUBLISHED-TTL:PT1H
BEGIN:VTIMEZONE
TZID:America/New_York
BEGIN:DAYLIGHT
TZOFFSETFROM:-0500
TZOFFSETTO:-0400
TZNAME:EDT
DTSTART:20240310T070000
END:DAYLIGHT
BEGIN:STANDARD
TZOFFSETFROM:-0400
TZOFFSETTO:-0500
TZNAME:EST
DTSTART:20241103T060000
END:STANDARD
END:VTIMEZONE
BEGIN:VEVENT
DTSTART;TZID=America/New_York:20241212T160000
DTEND;TZID=America/New_York:20241212T190000
DTSTAMP:20260421T005604
CREATED:20240826T023658Z
LAST-MODIFIED:20240826T023806Z
UID:27098-1734019200-1734030000@prmrocks.org
SUMMARY:Parent Teacher Conference
DESCRIPTION:Reach out directly to your student’s teacher(s) to schedule a quarterly conference.
URL:https://prmrocks.org/event/parent-teacher-conference/
LOCATION:Pleasant Ridge Montessori\, 5945 Montgomery Road\, Cincinnati\, Ohio\, 45213\, United States
ATTACH;FMTTYPE=image/jpeg:https://prmrocks.org/wp-content/uploads/2020/08/summit-logo-698x450-1.jpeg
END:VEVENT
END:VCALENDAR