BEGIN:VCALENDAR
VERSION:2.0
PRODID:-// - ECPv6.5.2//NONSGML v1.0//EN
CALSCALE:GREGORIAN
METHOD:PUBLISH
X-ORIGINAL-URL:https://prmrocks.org
X-WR-CALDESC:Events for 
REFRESH-INTERVAL;VALUE=DURATION:PT1H
X-Robots-Tag:noindex
X-PUBLISHED-TTL:PT1H
BEGIN:VTIMEZONE
TZID:America/New_York
BEGIN:DAYLIGHT
TZOFFSETFROM:-0500
TZOFFSETTO:-0400
TZNAME:EDT
DTSTART:20240310T070000
END:DAYLIGHT
BEGIN:STANDARD
TZOFFSETFROM:-0400
TZOFFSETTO:-0500
TZNAME:EST
DTSTART:20241103T060000
END:STANDARD
END:VTIMEZONE
BEGIN:VEVENT
DTSTART;TZID=America/New_York:20241220T000000
DTEND;TZID=America/New_York:20241220T235959
DTSTAMP:20260421T005510
CREATED:20240722T035600Z
LAST-MODIFIED:20240722T035603Z
UID:26894-1734652800-1734739199@prmrocks.org
SUMMARY:End of 2nd Quarter
DESCRIPTION:
URL:https://prmrocks.org/event/end-of-2nd-quarter/
END:VEVENT
BEGIN:VEVENT
DTSTART;TZID=America/New_York:20241220T074000
DTEND;TZID=America/New_York:20241220T141000
DTSTAMP:20260421T005510
CREATED:20241104T035112Z
LAST-MODIFIED:20241104T035757Z
UID:28651-1734680400-1734703800@prmrocks.org
SUMMARY:Countdown to Winter Break
DESCRIPTION:Come show off your school spirit on our last week before winter break!
URL:https://prmrocks.org/event/countdown-to-winter-break-spirit-week/2024-12-20/
ATTACH;FMTTYPE=image/png:https://prmrocks.org/wp-content/uploads/2024/11/Student-Winter-Spirit-Week-2024-Flyer-1.png
END:VEVENT
END:VCALENDAR