BEGIN:VCALENDAR
VERSION:2.0
PRODID:-// - ECPv6.5.2//NONSGML v1.0//EN
CALSCALE:GREGORIAN
METHOD:PUBLISH
X-ORIGINAL-URL:https://prmrocks.org
X-WR-CALDESC:Events for 
REFRESH-INTERVAL;VALUE=DURATION:PT1H
X-Robots-Tag:noindex
X-PUBLISHED-TTL:PT1H
BEGIN:VTIMEZONE
TZID:America/New_York
BEGIN:DAYLIGHT
TZOFFSETFROM:-0500
TZOFFSETTO:-0400
TZNAME:EDT
DTSTART:20260308T070000
END:DAYLIGHT
BEGIN:STANDARD
TZOFFSETFROM:-0400
TZOFFSETTO:-0500
TZNAME:EST
DTSTART:20261101T060000
END:STANDARD
END:VTIMEZONE
BEGIN:VEVENT
DTSTART;TZID=America/New_York:20260423T100000
DTEND;TZID=America/New_York:20260423T140000
DTSTAMP:20260423T060657
CREATED:20260406T041458Z
LAST-MODIFIED:20260406T041514Z
UID:32389-1776938400-1776952800@prmrocks.org
SUMMARY:Staff Appreciation Lunch
DESCRIPTION:Help us celebrate our wonderful PRM staff – addition details to come. \n\n\n\nPlease contact Staff Appreciation Champion\, Emily Lyon\, with any questions at emmyleegrace@gmail.com
URL:https://prmrocks.org/event/staff-appreciation-lunch-4/
ATTACH;FMTTYPE=image/png:https://prmrocks.org/wp-content/uploads/2025/04/images-1.png
END:VEVENT
BEGIN:VEVENT
DTSTART;TZID=America/New_York:20260423T160000
DTEND;TZID=America/New_York:20260423T190000
DTSTAMP:20260423T060657
CREATED:20251024T191138Z
LAST-MODIFIED:20251024T191155Z
UID:31795-1776960000-1776970800@prmrocks.org
SUMMARY:Parent Teacher Conferences
DESCRIPTION:Reach out directly to your student’s teacher(s) to schedule a quarterly conference.
URL:https://prmrocks.org/event/parent-teacher-conferences-13/
ATTACH;FMTTYPE=image/png:https://prmrocks.org/wp-content/uploads/2025/07/Sticker-design-2-sanchez.png
END:VEVENT
BEGIN:VEVENT
DTSTART;TZID=America/New_York:20260423T181500
DTEND;TZID=America/New_York:20260423T193000
DTSTAMP:20260423T060657
CREATED:20260408T222324Z
LAST-MODIFIED:20260408T222327Z
UID:32404-1776968100-1776972600@prmrocks.org
SUMMARY:Family Night Inventor's Lab
DESCRIPTION:Come for an engaging evening in partnership with the Cincinnati STEM Lab
URL:https://prmrocks.org/event/family-night-inventors-lab/
LOCATION:Pleasant Ridge Montessori\, 5945 Montgomery Road\, Cincinnati\, Ohio\, 45213\, United States
ATTACH;FMTTYPE=image/jpeg:https://prmrocks.org/wp-content/uploads/2026/04/PRM-Family-Stem-Night-Flyer-2026.jpg
END:VEVENT
END:VCALENDAR