BEGIN:VCALENDAR
VERSION:2.0
PRODID:-// - ECPv6.5.2//NONSGML v1.0//EN
CALSCALE:GREGORIAN
METHOD:PUBLISH
X-ORIGINAL-URL:https://prmrocks.org
X-WR-CALDESC:Events for 
REFRESH-INTERVAL;VALUE=DURATION:PT1H
X-Robots-Tag:noindex
X-PUBLISHED-TTL:PT1H
BEGIN:VTIMEZONE
TZID:America/New_York
BEGIN:DAYLIGHT
TZOFFSETFROM:-0500
TZOFFSETTO:-0400
TZNAME:EDT
DTSTART:20260308T070000
END:DAYLIGHT
BEGIN:STANDARD
TZOFFSETFROM:-0400
TZOFFSETTO:-0500
TZNAME:EST
DTSTART:20261101T060000
END:STANDARD
END:VTIMEZONE
BEGIN:VEVENT
DTSTART;TZID=America/New_York:20260424T180000
DTEND;TZID=America/New_York:20260424T200000
DTSTAMP:20260424T020414
CREATED:20260406T040457Z
LAST-MODIFIED:20260406T040502Z
UID:32380-1777053600-1777060800@prmrocks.org
SUMMARY:PRM Family Spring Fling
DESCRIPTION:Get ready to GLOW again this year at the PRM Family Spring Fling! \n\n\n\n\n\n\n\nWe are asking for donations of snacks\, water\, and coolers (those will be returned at the close of the event). We are also asking for a minimal number of parent volunteers for 30-minute shifts only at the bathrooms and as playground monitors for student safety. We would love your support – Sign Up Here  \n\n\n\nQuestions\, please contact our Spring Fling Champion\, Rachel Bauer at rachelabauer@gmail.com or (513) 238-9178
URL:https://prmrocks.org/event/prm-family-spring-fling/
LOCATION:Pleasant Ridge Montessori\, 5945 Montgomery Road\, Cincinnati\, Ohio\, 45213\, United States
ATTACH;FMTTYPE=image/jpeg:https://prmrocks.org/wp-content/uploads/2026/04/SpringFlingSocials-DETAILED.jpg
END:VEVENT
END:VCALENDAR