BEGIN:VCALENDAR
VERSION:2.0
PRODID:-// - ECPv6.5.2//NONSGML v1.0//EN
CALSCALE:GREGORIAN
METHOD:PUBLISH
X-ORIGINAL-URL:https://prmrocks.org
X-WR-CALDESC:Events for 
REFRESH-INTERVAL;VALUE=DURATION:PT1H
X-Robots-Tag:noindex
X-PUBLISHED-TTL:PT1H
BEGIN:VTIMEZONE
TZID:America/New_York
BEGIN:DAYLIGHT
TZOFFSETFROM:-0500
TZOFFSETTO:-0400
TZNAME:EDT
DTSTART:20240310T070000
END:DAYLIGHT
BEGIN:STANDARD
TZOFFSETFROM:-0400
TZOFFSETTO:-0500
TZNAME:EST
DTSTART:20241103T060000
END:STANDARD
BEGIN:DAYLIGHT
TZOFFSETFROM:-0500
TZOFFSETTO:-0400
TZNAME:EDT
DTSTART:20250309T070000
END:DAYLIGHT
BEGIN:STANDARD
TZOFFSETFROM:-0400
TZOFFSETTO:-0500
TZNAME:EST
DTSTART:20251102T060000
END:STANDARD
END:VTIMEZONE
BEGIN:VEVENT
DTSTART;TZID=America/New_York:20241223T000000
DTEND;TZID=America/New_York:20250103T235959
DTSTAMP:20260421T005602
CREATED:20240722T035705Z
LAST-MODIFIED:20240722T035707Z
UID:26896-1734912000-1735948799@prmrocks.org
SUMMARY:No School - Winter Break
DESCRIPTION:
URL:https://prmrocks.org/event/no-school-winter-break-2/
END:VEVENT
BEGIN:VEVENT
DTSTART;TZID=America/New_York:20250108T150000
DTEND;TZID=America/New_York:20250108T163000
DTSTAMP:20260421T005602
CREATED:20240911T044306Z
LAST-MODIFIED:20250125T221812Z
UID:27472-1736348400-1736353800@prmrocks.org
SUMMARY:LSDMC Meeting
DESCRIPTION:The Local School Decision Making Committee (LSDMC) is the primary governing body of our school and is composed of four major constituency groups; parents/guardians\, teachers\, non-teaching staff including the principal\, and community members.  \n\n\n\nEach group has equal representation and an equal voice in the decision-making process. The LSDMC sets goals\, develops a plan for meeting those goals\, and monitors progress toward goal attainment by conducting mid-year and end-of-year assessments. The LSDMC also makes school budget decisions\, submits changes in the school’s programing\, and when necessary participates in the selection of the principal. \n\n\n\nMeetings are open to the public and take place at PRM.
URL:https://prmrocks.org/event/lsdmc-meeting-4/2025-01-08/
ATTACH;FMTTYPE=image/webp:https://prmrocks.org/wp-content/uploads/2024/09/lsdmc_1.jpg.webp
END:VEVENT
BEGIN:VEVENT
DTSTART;TZID=America/New_York:20250115T183000
DTEND;TZID=America/New_York:20250115T193000
DTSTAMP:20260421T005602
CREATED:20240905T025525Z
LAST-MODIFIED:20240905T025525Z
UID:27205-1736965800-1736969400@prmrocks.org
SUMMARY:Foundation Meeting
DESCRIPTION:The Pleasant Ridge School Foundation (the “Foundation”) is the nonprofit arm of PRM\, which allows PRM to fundraise and to accept tax-deductible donations. The Foundation is made up of parents/guardians\, staff and community volunteers who develop large scale initiatives to benefit the school\, the students and the staff. \n\n\n\nThe Foundation meets in person on the third Wednesday of the month at Community Happens Here at 6:30pm. All are welcome! Please reach out to prsfpres@gmail.com with any questions. 
URL:https://prmrocks.org/event/foundation-meeting-3/2025-01-15/
LOCATION:Community Happens Here\, 6238 Montgomery Road 45213\, Cincinnati\, Ohio\, 45213\, United States
END:VEVENT
BEGIN:VEVENT
DTSTART;TZID=America/New_York:20250120T000000
DTEND;TZID=America/New_York:20250120T235959
DTSTAMP:20260421T005602
CREATED:20240722T035844Z
LAST-MODIFIED:20240722T035847Z
UID:26898-1737331200-1737417599@prmrocks.org
SUMMARY:No School - MLK Day
DESCRIPTION:
URL:https://prmrocks.org/event/no-school-mlk-day/
END:VEVENT
BEGIN:VEVENT
DTSTART;TZID=America/New_York:20250125T190000
DTEND;TZID=America/New_York:20250125T220000
DTSTAMP:20260421T005602
CREATED:20241108T205315Z
LAST-MODIFIED:20250120T163403Z
UID:28671-1737831600-1737842400@prmrocks.org
SUMMARY:Annual Silent Auction Party
DESCRIPTION:The Foundation’s annual PRM Silent Auction & Silent Auction Party is back! This is our biggest fundraiser of the year and all of the money raised goes back to PRM for students\, staff\, classroom and school initiatives.  \n\n\n\nSilent Auction \n\n\n\nThe Silent Auction will take place virtually\, beginning on Monday\, January 20th and ending on Saturday\, January 25th.  \n\n\n\nClick here for a link to the Silent Auction website to bid on some great gift baskets\, tickets\, artwork\, teacher experiences\, and more!   \n\n\n\nSilent Auction Party \n\n\n\nJoin us on Saturday\, January 25th from 7-10pm at Nine Giant Fermentorium (6111 Ridge Ave) for the adults-only Silent Auction Party! Enjoy music\, drinks\, food and community\, while raising money for PRM!  Many of the Silent Auction items will be available to check out in person at the party. Cost is $40/person and includes food and 2 drink tickets. \n\n\n\nA huge thank you to our presenting sponsor\, Johnson Investment Counsel\, for making this Silent Auction possible! \n\n\n\nFREE STAFF TICKETS \n\n\n\nThe Foundation recognizes all that our teachers and staff do for our students. As a token of our appreciation\, we have a limited number of FREE tickets to any teacher/staff member who would like to join us at the Silent Auction Party! Reserve your (1) free ticket here: https://forms.gle/Z3ZzEQYELaDHnGsF7. \n\n\n\n\n\n\n\nPurchase Silent Auction Party Tickets here! Want to add an additional donation to help cover the cost of teacher/staff tickets? Click here.
URL:https://prmrocks.org/event/2025annual-silent-auction-party/
LOCATION:The Fermentorium\, 6111 Ridge Avenue\, Cincinnati\, Ohio\, 45213\, United States
ATTACH;FMTTYPE=image/png:https://prmrocks.org/wp-content/uploads/2024/11/Roarin-in-the-Ridge.png
END:VEVENT
BEGIN:VEVENT
DTSTART;TZID=America/New_York:20250130T000000
DTEND;TZID=America/New_York:20250130T235959
DTSTAMP:20260421T005602
CREATED:20240722T134035Z
LAST-MODIFIED:20240722T134038Z
UID:26947-1738195200-1738281599@prmrocks.org
SUMMARY:No Preschool
DESCRIPTION:No School for Preschool Students Only – Data Input Day
URL:https://prmrocks.org/event/no-preschool/
END:VEVENT
BEGIN:VEVENT
DTSTART;TZID=America/New_York:20250130T074000
DTEND;TZID=America/New_York:20250130T141000
DTSTAMP:20260421T005602
CREATED:20250125T221614Z
LAST-MODIFIED:20250125T221620Z
UID:28759-1738222800-1738246200@prmrocks.org
SUMMARY:100th Day of School Celebration
DESCRIPTION:Students are encouraged to dress up in creative ways to celebrate the number 100! Here are just some fun ideas: wear 100 items (like stickers or buttons)\, dress like you’re 100 years old\, or create a shirt with the number 100 on it!At home\, this is also a great time to practice counting with your child\, whether it’s counting by 10s\, 5s\, or 1s. Make it a fun challenge as we count down to this exciting day!Additionally\, our Ages 6-9 and Ages 9-12 students will be participating in the School Character Trait Assembly on the same day. It’s an opportunity to showcase students with perseverance and leadership skills and to come together as a school community to recognize 100 days of hard work.If students are not participating in the 100th day dress up activities\, school spirit-wear is encouraged.
URL:https://prmrocks.org/event/100th-day-of-school-celebration/
ATTACH;FMTTYPE=image/jpeg:https://prmrocks.org/wp-content/uploads/2025/01/100dayofschool.jpeg
END:VEVENT
BEGIN:VEVENT
DTSTART;TZID=America/New_York:20250131T000000
DTEND;TZID=America/New_York:20250131T235959
DTSTAMP:20260421T005602
CREATED:20240722T040059Z
LAST-MODIFIED:20240722T040104Z
UID:26900-1738281600-1738367999@prmrocks.org
SUMMARY:No School - Staff Professional Development Day
DESCRIPTION:
URL:https://prmrocks.org/event/no-school-staff-professional-development-day-4/
END:VEVENT
END:VCALENDAR