BEGIN:VCALENDAR
VERSION:2.0
PRODID:-// - ECPv6.5.2//NONSGML v1.0//EN
CALSCALE:GREGORIAN
METHOD:PUBLISH
X-ORIGINAL-URL:https://prmrocks.org
X-WR-CALDESC:Events for 
REFRESH-INTERVAL;VALUE=DURATION:PT1H
X-Robots-Tag:noindex
X-PUBLISHED-TTL:PT1H
BEGIN:VTIMEZONE
TZID:America/New_York
BEGIN:DAYLIGHT
TZOFFSETFROM:-0500
TZOFFSETTO:-0400
TZNAME:EDT
DTSTART:20250309T070000
END:DAYLIGHT
BEGIN:STANDARD
TZOFFSETFROM:-0400
TZOFFSETTO:-0500
TZNAME:EST
DTSTART:20251102T060000
END:STANDARD
BEGIN:DAYLIGHT
TZOFFSETFROM:-0500
TZOFFSETTO:-0400
TZNAME:EDT
DTSTART:20260308T070000
END:DAYLIGHT
BEGIN:STANDARD
TZOFFSETFROM:-0400
TZOFFSETTO:-0500
TZNAME:EST
DTSTART:20261101T060000
END:STANDARD
END:VTIMEZONE
BEGIN:VEVENT
DTSTART;TZID=America/New_York:20251222T000000
DTEND;TZID=America/New_York:20260102T235959
DTSTAMP:20260420T152106
CREATED:20250729T044516Z
LAST-MODIFIED:20250915T040944Z
UID:31035-1766361600-1767398399@prmrocks.org
SUMMARY:No School - Winter Break
DESCRIPTION:
URL:https://prmrocks.org/event/no-school-winter-break-3/
ATTACH;FMTTYPE=image/png:https://prmrocks.org/wp-content/uploads/2025/07/images-1.png
END:VEVENT
BEGIN:VEVENT
DTSTART;TZID=America/New_York:20260105T000000
DTEND;TZID=America/New_York:20260105T235959
DTSTAMP:20260420T152106
CREATED:20250729T044631Z
LAST-MODIFIED:20251113T003359Z
UID:31037-1767571200-1767657599@prmrocks.org
SUMMARY:No School - Staff Professional Development Day
DESCRIPTION:
URL:https://prmrocks.org/event/no-school-staff-professional-development-day-7/
ATTACH;FMTTYPE=image/png:https://prmrocks.org/wp-content/uploads/2025/07/images-1.png
END:VEVENT
BEGIN:VEVENT
DTSTART;TZID=America/New_York:20260114T150000
DTEND;TZID=America/New_York:20260114T163000
DTSTAMP:20260420T152106
CREATED:20250908T053052Z
LAST-MODIFIED:20260220T064523Z
UID:31376-1768402800-1768408200@prmrocks.org
SUMMARY:LSDMC Meeting
DESCRIPTION:The Local School Decision Making Committee (LSDMC) is the primary governing body of our school and is composed of four major constituency groups; parents/guardians\, teachers\, non-teaching staff including the principal\, and community members.  \n\n\n\nEach group has equal representation and an equal voice in the decision-making process. The LSDMC sets goals\, develops a plan for meeting those goals\, and monitors progress toward goal attainment by conducting mid-year and end-of-year assessments. The LSDMC also makes school budget decisions\, submits changes in the school’s programing\, and when necessary participates in the selection of the principal. \n\n\n\nMeetings are open to the public and take place at PRM in the library.
URL:https://prmrocks.org/event/lsdmc-meeting-5/2026-01-14/
LOCATION:Pleasant Ridge Montessori\, 5945 Montgomery Road\, Cincinnati\, Ohio\, 45213\, United States
ATTACH;FMTTYPE=image/webp:https://prmrocks.org/wp-content/uploads/2024/09/lsdmc_1.jpg.webp
END:VEVENT
BEGIN:VEVENT
DTSTART;TZID=America/New_York:20260114T180000
DTEND;TZID=America/New_York:20260114T190000
DTSTAMP:20260420T152106
CREATED:20250827T050746Z
LAST-MODIFIED:20251203T055820Z
UID:31973-1768413600-1768417200@prmrocks.org
SUMMARY:PTO Meeting
DESCRIPTION:PTO meets on the second Wednesday of the month in the PRM Library. Please enter through the back parking lot doors. Free childcare is provided. \n\n\n\nThe Parent Teacher Organization is made up of parents/caregivers and staff members. The PTO focuses on community building and helps with communication between school and families. PTO organizes various events to foster connections as well as supports our PRM staff.  Contact prmpto@gmail.com with questions.
URL:https://prmrocks.org/event/pto-foundation-meeting/2026-01-14/
LOCATION:Pleasant Ridge Montessori\, 5945 Montgomery Road\, Cincinnati\, Ohio\, 45213\, United States
ATTACH;FMTTYPE=image/jpeg:https://prmrocks.org/wp-content/uploads/2020/08/summit-logo-698x450-1.jpeg
END:VEVENT
BEGIN:VEVENT
DTSTART;TZID=America/New_York:20260114T191500
DTEND;TZID=America/New_York:20260114T201500
DTSTAMP:20260420T152106
CREATED:20250915T033737Z
LAST-MODIFIED:20250915T033737Z
UID:31784-1768418100-1768421700@prmrocks.org
SUMMARY:Foundation Meeting
DESCRIPTION:Foundation meets on the second Wednesday of the month in the PRM Library. Please enter through the back parking lot doors. Free childcare is provided. \n\n\n\nThe Pleasant Ridge School Foundation is the nonprofit arm of PRM\, which allows PRM to fundraise and accept tax-deductible donations. The Foundation is made up of parents/caregivers\, staff and community volunteers who help develop and implement large scale initiatives to benefit the school\, students and the entire staff.  Contact prsfpres@gmail.com questions.
URL:https://prmrocks.org/event/foundation-meeting-4/2026-01-14/
LOCATION:Pleasant Ridge Montessori\, 5945 Montgomery Road\, Cincinnati\, Ohio\, 45213\, United States
ATTACH;FMTTYPE=image/jpeg:https://prmrocks.org/wp-content/uploads/2020/08/summit-logo-698x450-1.jpeg
END:VEVENT
BEGIN:VEVENT
DTSTART;TZID=America/New_York:20260119T000000
DTEND;TZID=America/New_York:20260119T235959
DTSTAMP:20260420T152106
CREATED:20250729T044816Z
LAST-MODIFIED:20251113T003539Z
UID:31039-1768780800-1768867199@prmrocks.org
SUMMARY:No School - MLK Day
DESCRIPTION:
URL:https://prmrocks.org/event/no-school-mlk-day-2/
ATTACH;FMTTYPE=image/png:https://prmrocks.org/wp-content/uploads/2025/07/images-1.png
END:VEVENT
BEGIN:VEVENT
DTSTART;TZID=America/New_York:20260122T080000
DTEND;TZID=America/New_York:20260122T100000
DTSTAMP:20260420T152106
CREATED:20260113T135310Z
LAST-MODIFIED:20260113T135314Z
UID:32084-1769068800-1769076000@prmrocks.org
SUMMARY:Coffee with Principal Simpson
DESCRIPTION:Join Principal Simpson for a cup of coffee to learn about school goals\, Title I programming\, and how families can support student success at home. We hope to see you there!
URL:https://prmrocks.org/event/coffee-with-principal-simpson/
ATTACH;FMTTYPE=image/png:https://prmrocks.org/wp-content/uploads/2026/01/Coffee-w-the-Principal-Flyer-1-22-26-e1768312280238.png
END:VEVENT
BEGIN:VEVENT
DTSTART;TZID=America/New_York:20260122T160000
DTEND;TZID=America/New_York:20260122T220000
DTSTAMP:20260420T152106
CREATED:20260113T135716Z
LAST-MODIFIED:20260119T231739Z
UID:32089-1769097600-1769119200@prmrocks.org
SUMMARY:Restaurant of the Month: High Grain Brewing Co.
DESCRIPTION:Join us in supporting a good cause\, with delicious food\, great beer\, and wonderful company at High Grain Brewing Co in Silverton.
URL:https://prmrocks.org/event/restaurant-of-the-month-high-grain-brewing-co/
ATTACH;FMTTYPE=image/png:https://prmrocks.org/wp-content/uploads/2026/01/PRM-Restaurant-of-The-Month-January.png
END:VEVENT
BEGIN:VEVENT
DTSTART;TZID=America/New_York:20260127T190000
DTEND;TZID=America/New_York:20260127T200000
DTSTAMP:20260420T152106
CREATED:20260122T033931Z
LAST-MODIFIED:20260122T033941Z
UID:32130-1769540400-1769544000@prmrocks.org
SUMMARY:Booster Meeting
DESCRIPTION:Are you interested in learning more about athletics at PRM? Please consider joining our Booster Meeting – all our welcome. We will discuss the wrap up of winter sports\, the kick-off of spring sports and any upcoming needs for our athletes. Contact prmathletics@gmail.com with any questions.
URL:https://prmrocks.org/event/booster-meeting-2/
LOCATION:Wiseguys Lounge\, 6915 Ridge Avenue\, Cincinnati\, Ohio\, 45213\, United States
ATTACH;FMTTYPE=image/jpeg:https://prmrocks.org/wp-content/uploads/2023/01/PRM-Roadrunner-Logo.jpg
END:VEVENT
END:VCALENDAR