BEGIN:VCALENDAR
VERSION:2.0
PRODID:-// - ECPv6.5.2//NONSGML v1.0//EN
CALSCALE:GREGORIAN
METHOD:PUBLISH
X-ORIGINAL-URL:https://prmrocks.org
X-WR-CALDESC:Events for 
REFRESH-INTERVAL;VALUE=DURATION:PT1H
X-Robots-Tag:noindex
X-PUBLISHED-TTL:PT1H
BEGIN:VTIMEZONE
TZID:America/New_York
BEGIN:DAYLIGHT
TZOFFSETFROM:-0500
TZOFFSETTO:-0400
TZNAME:EDT
DTSTART:20220313T070000
END:DAYLIGHT
BEGIN:STANDARD
TZOFFSETFROM:-0400
TZOFFSETTO:-0500
TZNAME:EST
DTSTART:20221106T060000
END:STANDARD
END:VTIMEZONE
BEGIN:VEVENT
DTSTART;TZID=America/New_York:20220919T144500
DTEND;TZID=America/New_York:20220919T160000
DTSTAMP:20260422T044159
CREATED:20220907T202955Z
LAST-MODIFIED:20220907T203826Z
UID:19287-1663598700-1663603200@prmrocks.org
SUMMARY:ILT Meeting
DESCRIPTION:The Instructional Leadership Team is designed to share in the instructional leadership decisions to improve student achievement at PRM. The ILT is composed of at least 60% teachers. A Team-Leader represents each team of teachers. The principal\, two parents and two non-teaching staff members also serve on ILT. During the school year the ILT makes decisions about issues that impact instruction and events that take place during the school day – items such as proposed changes to school  programing or updates to the school calendar. \n\n\n\nILT Meets: On the first andthird Monday of the month atPRM @ 2:45pm.
URL:https://prmrocks.org/event/ilt-meeting-6/2022-09-19/
END:VEVENT
END:VCALENDAR