BEGIN:VCALENDAR
VERSION:2.0
PRODID:-// - ECPv6.5.2//NONSGML v1.0//EN
CALSCALE:GREGORIAN
METHOD:PUBLISH
X-ORIGINAL-URL:https://prmrocks.org
X-WR-CALDESC:Events for 
REFRESH-INTERVAL;VALUE=DURATION:PT1H
X-Robots-Tag:noindex
X-PUBLISHED-TTL:PT1H
BEGIN:VTIMEZONE
TZID:America/New_York
BEGIN:DAYLIGHT
TZOFFSETFROM:-0500
TZOFFSETTO:-0400
TZNAME:EDT
DTSTART:20260308T070000
END:DAYLIGHT
BEGIN:STANDARD
TZOFFSETFROM:-0400
TZOFFSETTO:-0500
TZNAME:EST
DTSTART:20261101T060000
END:STANDARD
END:VTIMEZONE
BEGIN:VEVENT
DTSTART;TZID=America/New_York:20260314T180000
DTEND;TZID=America/New_York:20260314T193000
DTSTAMP:20260422T060623
CREATED:20260220T060133Z
LAST-MODIFIED:20260307T150826Z
UID:32216-1773511200-1773516600@prmrocks.org
SUMMARY:School Musical - Moana Jr.
DESCRIPTION:Pleasant Ridge Montessori Presents Disney’s Moana Jr.! \n\n\n\nPresented through a licensing agreement with Music Theatre International. \n\n\n\nJoin us for a live theater show\, performed by our very own 9-12 students.  Admission is FREE\, but donations will be accepted.  \n\n\n\nReserve your tickets now.
URL:https://prmrocks.org/event/school-musical-moana-jr/2026-03-14/
ATTACH;FMTTYPE=image/jpeg:https://prmrocks.org/wp-content/uploads/2026/02/Moana.jpg
END:VEVENT
BEGIN:VEVENT
DTSTART;TZID=America/New_York:20260313T180000
DTEND;TZID=America/New_York:20260313T193000
DTSTAMP:20260422T060623
CREATED:20260220T060133Z
LAST-MODIFIED:20260307T150824Z
UID:32213-1773424800-1773430200@prmrocks.org
SUMMARY:School Musical - Moana Jr.
DESCRIPTION:Pleasant Ridge Montessori Presents Disney’s Moana Jr.! \n\n\n\nPresented through a licensing agreement with Music Theatre International. \n\n\n\nJoin us for a live theater show\, performed by our very own 9-12 students.  Admission is FREE\, but donations will be accepted.  \n\n\n\nReserve your tickets now.
URL:https://prmrocks.org/event/school-musical-moana-jr/2026-03-13/
ATTACH;FMTTYPE=image/jpeg:https://prmrocks.org/wp-content/uploads/2026/02/Moana.jpg
END:VEVENT
END:VCALENDAR