BEGIN:VCALENDAR
VERSION:2.0
PRODID:-// - ECPv6.5.2//NONSGML v1.0//EN
CALSCALE:GREGORIAN
METHOD:PUBLISH
X-ORIGINAL-URL:https://prmrocks.org
X-WR-CALDESC:Events for 
REFRESH-INTERVAL;VALUE=DURATION:PT1H
X-Robots-Tag:noindex
X-PUBLISHED-TTL:PT1H
BEGIN:VTIMEZONE
TZID:America/New_York
BEGIN:DAYLIGHT
TZOFFSETFROM:-0500
TZOFFSETTO:-0400
TZNAME:EDT
DTSTART:20200308T070000
END:DAYLIGHT
BEGIN:STANDARD
TZOFFSETFROM:-0400
TZOFFSETTO:-0500
TZNAME:EST
DTSTART:20201101T060000
END:STANDARD
END:VTIMEZONE
BEGIN:VEVENT
DTSTART;VALUE=DATE:20200831
DTEND;VALUE=DATE:20200901
DTSTAMP:20260423T201302
CREATED:20200806T193706Z
LAST-MODIFIED:20200806T193743Z
UID:15923-1598832000-1598918399@prmrocks.org
SUMMARY:First Day of Lessons via Distance Learning
DESCRIPTION:August 31 – First day of lessons via distance learning!  More Information to come!
URL:https://prmrocks.org/event/first-day-of-lessons-via-distance-learning/
LOCATION:Cincinnati\, OH\, United States
END:VEVENT
END:VCALENDAR