BEGIN:VCALENDAR
VERSION:2.0
PRODID:-// - ECPv6.5.2//NONSGML v1.0//EN
CALSCALE:GREGORIAN
METHOD:PUBLISH
X-ORIGINAL-URL:https://prmrocks.org
X-WR-CALDESC:Events for 
REFRESH-INTERVAL;VALUE=DURATION:PT1H
X-Robots-Tag:noindex
X-PUBLISHED-TTL:PT1H
BEGIN:VTIMEZONE
TZID:America/New_York
BEGIN:DAYLIGHT
TZOFFSETFROM:-0500
TZOFFSETTO:-0400
TZNAME:EDT
DTSTART:20220313T070000
END:DAYLIGHT
BEGIN:STANDARD
TZOFFSETFROM:-0400
TZOFFSETTO:-0500
TZNAME:EST
DTSTART:20221106T060000
END:STANDARD
BEGIN:DAYLIGHT
TZOFFSETFROM:-0500
TZOFFSETTO:-0400
TZNAME:EDT
DTSTART:20230312T070000
END:DAYLIGHT
BEGIN:STANDARD
TZOFFSETFROM:-0400
TZOFFSETTO:-0500
TZNAME:EST
DTSTART:20231105T060000
END:STANDARD
BEGIN:DAYLIGHT
TZOFFSETFROM:-0500
TZOFFSETTO:-0400
TZNAME:EDT
DTSTART:20240310T070000
END:DAYLIGHT
BEGIN:STANDARD
TZOFFSETFROM:-0400
TZOFFSETTO:-0500
TZNAME:EST
DTSTART:20241103T060000
END:STANDARD
BEGIN:DAYLIGHT
TZOFFSETFROM:-0500
TZOFFSETTO:-0400
TZNAME:EDT
DTSTART:20250309T070000
END:DAYLIGHT
BEGIN:STANDARD
TZOFFSETFROM:-0400
TZOFFSETTO:-0500
TZNAME:EST
DTSTART:20251102T060000
END:STANDARD
BEGIN:DAYLIGHT
TZOFFSETFROM:-0500
TZOFFSETTO:-0400
TZNAME:EDT
DTSTART:20260308T070000
END:DAYLIGHT
BEGIN:STANDARD
TZOFFSETFROM:-0400
TZOFFSETTO:-0500
TZNAME:EST
DTSTART:20261101T060000
END:STANDARD
END:VTIMEZONE
BEGIN:VEVENT
DTSTART;TZID=America/New_York:20260319T080000
DTEND;TZID=America/New_York:20260319T130000
DTSTAMP:20260420T050638
CREATED:20260317T044942Z
LAST-MODIFIED:20260317T045124Z
UID:32331-1773907200-1773925200@prmrocks.org
SUMMARY:Spring Picture Day
DESCRIPTION:All students must be IN uniform – class pictures will be taken. \n\n\n\nOnline ordering available at mylifetouch.com \n\n\n\nPicture Day ID: EVTJB88XN
URL:https://prmrocks.org/event/spring-picture-day-3/
LOCATION:5945 Montgomery Road Cincinnati\, Ohio 45213 United States\, Cincinnati
ATTACH;FMTTYPE=image/jpeg:https://prmrocks.org/wp-content/uploads/2025/10/PrepayPrePDSchoolBannerV1336x280.jpg
END:VEVENT
BEGIN:VEVENT
DTSTART;TZID=America/New_York:20260207T190000
DTEND;TZID=America/New_York:20260207T220000
DTSTAMP:20260420T050639
CREATED:20251211T011051Z
LAST-MODIFIED:20260119T233615Z
UID:32077-1770490800-1770501600@prmrocks.org
SUMMARY:PRM PRoM
DESCRIPTION:Book your babysitter and buy your tickets for an adults ONLY first of it’s kind PRoM!  Our sneakerball-themed event promises to be a fun community fundraiser with lots of music\, dancing\, food and drink\, raffles\, and priceless PRoM memories.  This fundraiser will directly benefit our 2025-2026 Foundation initiative – the Outdoor Project.  Cash bar available. \n\n\n\nPurchase Tickets NOW – Early Bird Pricing until 1/30
URL:https://prmrocks.org/event/prm-prom/
LOCATION:5945 Montgomery Road Cincinnati\, Ohio 45213 United States\, Cincinnati
ATTACH;FMTTYPE=image/png:https://prmrocks.org/wp-content/uploads/2025/12/image0.png
END:VEVENT
BEGIN:VEVENT
DTSTART;TZID=America/New_York:20220818T071500
DTEND;TZID=America/New_York:20220818T080000
DTSTAMP:20260420T050639
CREATED:20220627T192204Z
LAST-MODIFIED:20220809T192957Z
UID:18981-1660806900-1660809600@prmrocks.org
SUMMARY:Million Fathers March
DESCRIPTION:
URL:https://prmrocks.org/event/million-fathers-march-2/
LOCATION:5945 Montgomery Road Cincinnati\, Ohio 45213 United States\, Cincinnati
ATTACH;FMTTYPE=image/jpeg:https://prmrocks.org/wp-content/uploads/2021/08/038Million2021Web.jpg
END:VEVENT
BEGIN:VEVENT
DTSTART;TZID=America/New_York:20220816T170000
DTEND;TZID=America/New_York:20220816T190000
DTSTAMP:20260420T050639
CREATED:20220627T192013Z
LAST-MODIFIED:20220813T212929Z
UID:18979-1660669200-1660676400@prmrocks.org
SUMMARY:Back to School Event
DESCRIPTION:Back to School Open House \n\n\n\n\n\n\n\nTuesday\, August 16th\, 2022 \n\n\n\nCLC Partners and Sign-ups\, PRM spirit wear\, Tie-dye\, Uniform exchange\, Ice Cream Social and Food Trucks! \n\n\n\nSchool Supply Drop Off Time: \n\n\n\nA-F 5-5:30p \n\n\n\nG-L 5:30-6p \n\n\n\nM-R 6-6:30 \n\n\n\nS-Z 6:30-7p \n\n\n\nIn case of inclement weather we will transition into the building. \n\n\n\nGot Questions? Contact our Resource Coordinator\, Monique Johnson at 513-363-4429 \n\n\n\nVolunteer Opportunities:  click sign up genius! \n\n\n\nOpen houseUniform exchange – https://www.signupgenius.com/go/20f0a44a8ae22a1fa7-uniformTiedye – https://www.signupgenius.com/go/20F0A44A8AE22A1FA7-tiedye
URL:https://prmrocks.org/event/back-to-school-event/
LOCATION:5945 Montgomery Road Cincinnati\, Ohio 45213 United States\, Cincinnati
ATTACH;FMTTYPE=image/jpeg:https://prmrocks.org/wp-content/uploads/2022/06/001FallFlyers.jpg
END:VEVENT
BEGIN:VEVENT
DTSTART;TZID=America/New_York:20220624T170000
DTEND;TZID=America/New_York:20220624T200000
DTSTAMP:20260420T050639
CREATED:20220620T134535Z
LAST-MODIFIED:20220817T222454Z
UID:18959-1656090000-1656100800@prmrocks.org
SUMMARY:An Evening in the PRM Garden
DESCRIPTION:We are looking for any families who are interested in keeping the PRM garden looking beautiful to come out on Friday from 5-8pm to help maintain our unique space. There will be a variety of jobs to do and many hands make light work. We are thinking of making this a potluck style event as well with an opportunity to build community alongside the work.
URL:https://prmrocks.org/event/an-evening-in-the-prm-garden/2022-06-24/
LOCATION:5945 Montgomery Road Cincinnati\, Ohio 45213 United States\, Cincinnati
ATTACH;FMTTYPE=image/jpeg:https://prmrocks.org/wp-content/uploads/2020/07/Garden2017-019-DSC_0194-scaled.jpg
END:VEVENT
END:VCALENDAR